BEGIN:VCALENDAR
VERSION:2.0
PRODID:-//PHLY Sports - ECPv6.10.2//NONSGML v1.0//EN
CALSCALE:GREGORIAN
METHOD:PUBLISH
X-ORIGINAL-URL:https://allphly.com
X-WR-CALDESC:Events for PHLY Sports
REFRESH-INTERVAL;VALUE=DURATION:PT1H
X-Robots-Tag:noindex
X-PUBLISHED-TTL:PT1H
BEGIN:VTIMEZONE
TZID:America/New_York
BEGIN:DAYLIGHT
TZOFFSETFROM:-0500
TZOFFSETTO:-0400
TZNAME:EDT
DTSTART:20240310T070000
END:DAYLIGHT
BEGIN:STANDARD
TZOFFSETFROM:-0400
TZOFFSETTO:-0500
TZNAME:EST
DTSTART:20241103T060000
END:STANDARD
BEGIN:DAYLIGHT
TZOFFSETFROM:-0500
TZOFFSETTO:-0400
TZNAME:EDT
DTSTART:20250309T070000
END:DAYLIGHT
BEGIN:STANDARD
TZOFFSETFROM:-0400
TZOFFSETTO:-0500
TZNAME:EST
DTSTART:20251102T060000
END:STANDARD
END:VTIMEZONE
BEGIN:VEVENT
DTSTART;TZID=America/New_York:20250627T190000
DTEND;TZID=America/New_York:20250627T230000
DTSTAMP:20260422T054323
CREATED:20250602T161003Z
LAST-MODIFIED:20250609T173409Z
UID:10000059-1751050800-1751065200@allphly.com
SUMMARY:PHLY Flyers NHL Draft Party with Broad Street Hockey Presented by Philly Sports Trips
DESCRIPTION:Join the PHLY Flyers\, Broad Street Hockey and Philly Sports Trips for an NHL Draft Party at Chickie and Petes! \n\n\n\n🏒General admission tickets are $5 with the proceeds going to the Snider Hockey Foundation🎟️ VIP Tickets are $55 including a 3 hour open bar\, appetizers\, plus a meet and greet with Flyers Legend Bernie ParentThere are no diehard discounts for the draft event\, as proceeds are going to the Snider Hockey Foundation \n\n\n\nGET TICKETS
URL:https://allphly.com/event/phly-flyers-nhl-draft-party-with-broad-street-hockey-presented-by-philly-sports-trips/
LOCATION:Chickie’s & Pete’s\, 1526 Packer Avenue\, Philadelphia\, Pennsylvania\, 19145\, United States
ATTACH;FMTTYPE=image/jpeg:https://allphly.com/wp-content/uploads/sites/8/2025/06/PHLY_Flyers_DraaftParty_Fullscreen-1.jpg
END:VEVENT
BEGIN:VEVENT
DTSTART;TZID=America/New_York:20240628T180000
DTEND;TZID=America/New_York:20240628T230000
DTSTAMP:20260422T054323
CREATED:20240624T170052Z
LAST-MODIFIED:20240624T194205Z
UID:10000029-1719597600-1719615600@allphly.com
SUMMARY:PHLY Flyers Live NHL Draft Show at Chickie's & Pete's
DESCRIPTION:Come join PHLY & Broad St. Hockey for an exciting evening with diehard hockey fans at Chickie’s & Pete’s as we watch the Flyers make their picks at the Live Draft Show! Enjoy great food\, drinks\, and company while we cheer on our team. This is an in person event\, so make sure to secure your spot early. Don’t miss out on the fun and camaraderie of being with fellow fans as we welcome the newest additions to our team. RSVP is FREE- just let us know you’re coming! See you there!\n\n\n\n\nCLICK HERE TO RSVP
URL:https://allphly.com/event/phly-flyers-live-nhl-draft-show-at-chickies-petes/
LOCATION:Chickie’s & Pete’s\, 1526 Packer Avenue\, Philadelphia\, Pennsylvania\, 19145\, United States
CATEGORIES:Live Show,Watch Party
ATTACH;FMTTYPE=image/jpeg:https://cdn.allcitynetwork.com/wp-content/uploads/sites/8/2024/06/24144550/IMG_2932.jpg
END:VEVENT
END:VCALENDAR